BEGIN:VCALENDAR
CALSCALE:GREGORIAN
VERSION:2.0
METHOD:PUBLISH 
X-WR-CALNAME:
BEGIN:VEVENT
DTSTART;TZID=Europe/Paris:20260424T123456
DTEND;TZID=Europe/Paris:20260424T133456
SUMMARY:Flamenco avec Maria Clastre
CATEGORIE:Spectacles et Théâtre
GEO:43.34137300000000;-0.58324820000000
LOCATION:Le Moulin bouge
Quartier Loupien - Route de Pardies\, 64360 Monein\, France
URL:https://www.fest.fr/e/2421146
UID:2421146-1@fest.fr
END:VEVENT
END:VCALENDAR
