BEGIN:VCALENDAR
CALSCALE:GREGORIAN
VERSION:2.0
METHOD:PUBLISH 
X-WR-CALNAME:
BEGIN:VEVENT
DTSTART;TZID=Europe/Paris:20260506T140000
DTEND;TZID=Europe/Paris:20260506T150000
SUMMARY:Balade patrimoine et nature
CATEGORIE:Randonnées et balades
GEO:43.57534090000000;-0.83599660000000
LOCATION:57 Avenue de la Poste\, 40360 Tilh\, France
URL:https://www.fest.fr/e/2421103
UID:2421103-1@fest.fr
END:VEVENT
END:VCALENDAR
