BEGIN:VCALENDAR
CALSCALE:GREGORIAN
VERSION:2.0
METHOD:PUBLISH 
X-WR-CALNAME:
BEGIN:VEVENT
DTSTART;TZID=Europe/Paris:20260912T133000
DTEND;TZID=Europe/Paris:20260912T143000
SUMMARY:Vente de livres
CATEGORIE:Brocantes, Bourses et Vide-Greniers
GEO:44.53184720000000;0.76803488000000
LOCATION:Médiathèque
Rue Sainte Marie\, 47150 Monflanquin\, France
URL:https://www.fest.fr/e/2420822
UID:2420822-1@fest.fr
END:VEVENT
END:VCALENDAR
