BEGIN:VCALENDAR
CALSCALE:GREGORIAN
VERSION:2.0
METHOD:PUBLISH 
X-WR-CALNAME:
BEGIN:VEVENT
DTSTART;TZID=Europe/Paris:20260424T143000
DTEND;TZID=Europe/Paris:20260424T153000
SUMMARY:Atelier repiquage : de la graine à la vie
CATEGORIE:Stages, Ateliers et Initiations
GEO:43.32818680000000;-1.40423770000000
LOCATION:625 chemin de l'église
Atelier du Piment\, 64250 Espelette\, France
URL:https://www.fest.fr/e/2420774
UID:2420774-1@fest.fr
END:VEVENT
END:VCALENDAR
