BEGIN:VCALENDAR
CALSCALE:GREGORIAN
VERSION:2.0
METHOD:PUBLISH 
X-WR-CALNAME:
BEGIN:VEVENT
DTSTART;TZID=Europe/Paris:20260430T140000
DTEND;TZID=Europe/Paris:20260430T150000
SUMMARY:Initiation à la pelote basque - expérience et découverte de 2 disciplines.
CATEGORIE:Stages, Ateliers et Initiations
GEO:43.38395200000000;-1.30525000000000
LOCATION:Trinquet Darmendrail\, 64240 Hasparren\, France
URL:https://www.fest.fr/e/2420746
UID:2420746-1@fest.fr
END:VEVENT
END:VCALENDAR
