BEGIN:VCALENDAR
CALSCALE:GREGORIAN
VERSION:2.0
METHOD:PUBLISH 
X-WR-CALNAME:
BEGIN:VEVENT
DTSTART;TZID=Europe/Paris:20260721T093000
DTEND;TZID=Europe/Paris:20260721T103000
SUMMARY:Jeux en bois sur le marché
CATEGORIE:Jeux et Concours
GEO:45.41443700000000;0.92060946000000
LOCATION:1 place Foch
Office de tourisme\, 24800 Thiviers\, France
URL:https://www.fest.fr/e/2420457
UID:2420457-1@fest.fr
END:VEVENT
BEGIN:VEVENT
DTSTART;TZID=Europe/Paris:20260811T093000
DTEND;TZID=Europe/Paris:20260811T103000
SUMMARY:Jeux en bois sur le marché
CATEGORIE:Jeux et Concours
GEO:45.41443700000000;0.92060946000000
LOCATION:1 place Foch
Office de tourisme\, 24800 Thiviers\, France
URL:https://www.fest.fr/e/2420457
UID:2420457-2@fest.fr
END:VEVENT
END:VCALENDAR
