BEGIN:VCALENDAR
CALSCALE:GREGORIAN
VERSION:2.0
METHOD:PUBLISH 
X-WR-CALNAME:
BEGIN:VEVENT
DTSTART;TZID=Europe/Paris:20260628T140000
DTEND;TZID=Europe/Paris:20260628T150000
SUMMARY:Chasse au trésor
CATEGORIE:Jeux et Concours
GEO:44.21535410000000;-1.22673310000000
LOCATION:Promenade fleurie, avenue du lac\, 40200 Mimizan\, France
URL:https://www.fest.fr/e/2420432
UID:2420432-1@fest.fr
END:VEVENT
END:VCALENDAR
