BEGIN:VCALENDAR
CALSCALE:GREGORIAN
VERSION:2.0
METHOD:PUBLISH 
X-WR-CALNAME:
BEGIN:VEVENT
DTSTART;TZID=Europe/Paris:20261031T090000
DTEND;TZID=Europe/Paris:20261031T100000
SUMMARY:Enluminure - lettrine sur parchemin au Moulin du Got
CATEGORIE:Stages, Ateliers et Initiations
GEO:45.85588520000000;1.45903586000000
LOCATION:Le Pénitent
Moulin du Got\, 87400 Saint-Léonard-de-Noblat\, France
URL:https://www.fest.fr/e/2420392
UID:2420392-1@fest.fr
END:VEVENT
BEGIN:VEVENT
DTSTART;TZID=Europe/Paris:20261101T090000
DTEND;TZID=Europe/Paris:20261101T100000
SUMMARY:Enluminure - lettrine sur parchemin au Moulin du Got
CATEGORIE:Stages, Ateliers et Initiations
GEO:45.85588520000000;1.45903586000000
LOCATION:Le Pénitent
Moulin du Got\, 87400 Saint-Léonard-de-Noblat\, France
URL:https://www.fest.fr/e/2420392
UID:2420392-2@fest.fr
END:VEVENT
END:VCALENDAR
