BEGIN:VCALENDAR
CALSCALE:GREGORIAN
VERSION:2.0
METHOD:PUBLISH 
X-WR-CALNAME:
BEGIN:VEVENT
DTSTART;TZID=Europe/Paris:20260417T153000
DTEND;TZID=Europe/Paris:20260417T163000
SUMMARY:Atelier "De la cuisine à l'art : aquarelle faite-maison"
CATEGORIE:Stages, Ateliers et Initiations
GEO:44.70799200000000;-0.40076200000000
LOCATION:10 Place Aimé-Gauzy
Le Brouhaha\, 33550 Langoiran\, France
URL:https://www.fest.fr/e/2420212
UID:2420212-1@fest.fr
END:VEVENT
END:VCALENDAR
