BEGIN:VCALENDAR
CALSCALE:GREGORIAN
VERSION:2.0
METHOD:PUBLISH 
X-WR-CALNAME:
BEGIN:VEVENT
DTSTART;TZID=Europe/Paris:20260721T143000
DTEND;TZID=Europe/Paris:20260721T153000
SUMMARY:Atelier bracelet
CATEGORIE:Stages, Ateliers et Initiations
GEO:45.53985770000000;0.97515387000000
LOCATION:Bibliothèque
Square Jean-Jaurès\, 24450 La Coquille\, France
URL:https://www.fest.fr/e/2420107
UID:2420107-1@fest.fr
END:VEVENT
END:VCALENDAR
