BEGIN:VCALENDAR
CALSCALE:GREGORIAN
VERSION:2.0
METHOD:PUBLISH 
X-WR-CALNAME:
BEGIN:VEVENT
DTSTART;TZID=Europe/Paris:20260424T203000
DTEND;TZID=Europe/Paris:20260424T213000
SUMMARY:Soirée jeux de société, à la Micro-Folie
CATEGORIE:Jeux et Concours
GEO:43.36782910000000;-0.34783260000000
LOCATION:2 Chemin Penouilh
Espace culturel Laaps'Art\, 64121 Montardon\, France
URL:https://www.fest.fr/e/2420084
UID:2420084-1@fest.fr
END:VEVENT
END:VCALENDAR
