BEGIN:VCALENDAR
CALSCALE:GREGORIAN
VERSION:2.0
METHOD:PUBLISH 
X-WR-CALNAME:
BEGIN:VEVENT
DTSTART;TZID=Europe/Paris:20260501T140000
DTEND;TZID=Europe/Paris:20260501T150000
SUMMARY:Triptyque dansé : l'atelier
CATEGORIE:Stages, Ateliers et Initiations
GEO:45.49989000000000;0.90178300000000
LOCATION:MECS\, 24800 Saint-Jory-de-Chalais\, France
URL:https://www.fest.fr/e/2420079
UID:2420079-1@fest.fr
END:VEVENT
END:VCALENDAR
