BEGIN:VCALENDAR
CALSCALE:GREGORIAN
VERSION:2.0
METHOD:PUBLISH 
X-WR-CALNAME:
BEGIN:VEVENT
DTSTART;TZID=Europe/Paris:20260812T100000
DTEND;TZID=Europe/Paris:20260812T110000
SUMMARY:Escape Game "Le dernier rendez-vous"
CATEGORIE:Jeux et Concours
GEO:43.75839300000000;-0.57174770000000
LOCATION:Musée de Saint-Sever
Rue du Gén Lamarque\, 40500 Saint-Sever\, France
URL:https://www.fest.fr/e/2420074
UID:2420074-1@fest.fr
END:VEVENT
END:VCALENDAR
