BEGIN:VCALENDAR
CALSCALE:GREGORIAN
VERSION:2.0
METHOD:PUBLISH 
X-WR-CALNAME:
BEGIN:VEVENT
DTSTART;TZID=Europe/Paris:20260516T100000
DTEND;TZID=Europe/Paris:20260516T110000
SUMMARY:Atelier créatif et bien-être
CATEGORIE:Stages, Ateliers et Initiations
GEO:43.46593130000000;-0.57537270000000
LOCATION:Salle des sports\, 64370 Castillon (Canton d'Arthez-de-Béarn)\, France
URL:https://www.fest.fr/e/2419939
UID:2419939-1@fest.fr
END:VEVENT
END:VCALENDAR
