BEGIN:VCALENDAR
CALSCALE:GREGORIAN
VERSION:2.0
METHOD:PUBLISH 
X-WR-CALNAME:
BEGIN:VEVENT
DTSTART;TZID=Europe/Paris:20261012T140000
DTEND;TZID=Europe/Paris:20261012T150000
SUMMARY:Exposition Diego Ramos
CATEGORIE:Expositions, Visites et Découvertes
GEO:43.42169000000000;-1.60824000000000
LOCATION:165 Avenue du Général de Gaulle
Musée de Guéthary\, 64210 Guéthary\, France
URL:https://www.fest.fr/e/2419814
UID:2419814-1@fest.fr
END:VEVENT
END:VCALENDAR
