BEGIN:VCALENDAR
CALSCALE:GREGORIAN
VERSION:2.0
METHOD:PUBLISH 
X-WR-CALNAME:
BEGIN:VEVENT
DTSTART;TZID=Europe/Paris:20260607T090000
DTEND;TZID=Europe/Paris:20260607T100000
SUMMARY:Repair Café
CATEGORIE:Stages, Ateliers et Initiations
GEO:43.75253000000000;-0.60341000000000
LOCATION:Quartier d'Augreilh
Salle Alain Marsan\, 40500 Saint-Sever\, France
URL:https://www.fest.fr/e/2419764
UID:2419764-1@fest.fr
END:VEVENT
END:VCALENDAR
