BEGIN:VCALENDAR
CALSCALE:GREGORIAN
VERSION:2.0
METHOD:PUBLISH 
X-WR-CALNAME:
BEGIN:VEVENT
DTSTART;TZID=Europe/Paris:20260422T203000
DTEND;TZID=Europe/Paris:20260422T213000
SUMMARY:Cinéma : Rural
CATEGORIE:Spectacles et Théâtre
GEO:46.48198690000000;-0.60150200000000
LOCATION:Espace Colonica
Place de la Liberté\, 79160 Coulonges-sur-l'Autize\, France
URL:https://www.fest.fr/e/2419698
UID:2419698-1@fest.fr
END:VEVENT
END:VCALENDAR
