BEGIN:VCALENDAR
CALSCALE:GREGORIAN
VERSION:2.0
METHOD:PUBLISH 
X-WR-CALNAME:
BEGIN:VEVENT
DTSTART;TZID=Europe/Paris:20260416T140000
DTEND;TZID=Europe/Paris:20260416T150000
SUMMARY:Hack ton Montmartre :  Ateliers création numérique en fablab
CATEGORIE:Stages, Ateliers et Initiations
GEO:46.17183640000000;1.87267590000000
LOCATION:6 Avenue Fayolle
Micro-Folie Guéret - Espace Fayolle\, 23000 Guéret\, France
URL:https://www.fest.fr/e/2419687
UID:2419687-1@fest.fr
END:VEVENT
END:VCALENDAR
