BEGIN:VCALENDAR
CALSCALE:GREGORIAN
VERSION:2.0
METHOD:PUBLISH 
X-WR-CALNAME:
BEGIN:VEVENT
DTSTART;TZID=Europe/Paris:20260508T080000
DTEND;TZID=Europe/Paris:20260508T090000
SUMMARY:Marché à la brocante
CATEGORIE:Brocantes, Bourses et Vide-Greniers
GEO:43.48860260000000;-1.47424300000000
LOCATION:Esplanade Roland Barthes
Quai Chaho\, 64100 Bayonne\, France
URL:https://www.fest.fr/e/2419657
UID:2419657-1@fest.fr
END:VEVENT
END:VCALENDAR
