BEGIN:VCALENDAR
CALSCALE:GREGORIAN
VERSION:2.0
METHOD:PUBLISH 
X-WR-CALNAME:
BEGIN:VEVENT
DTSTART;TZID=Europe/Paris:20260510T090000
DTEND;TZID=Europe/Paris:20260510T100000
SUMMARY:Course "Les Foulées du Maraisthon" à Sansais-La Garette
CATEGORIE:Sports
GEO:46.30504200000000;-0.59381060000000
LOCATION:78ter Rue des Gravées
Site du Châtelet\, 79270 Sansais\, France
URL:https://www.fest.fr/e/2419622
UID:2419622-1@fest.fr
END:VEVENT
END:VCALENDAR
