BEGIN:VCALENDAR
CALSCALE:GREGORIAN
VERSION:2.0
METHOD:PUBLISH 
X-WR-CALNAME:
BEGIN:VEVENT
DTSTART;TZID=Europe/Paris:20260418T200000
DTEND;TZID=Europe/Paris:20260418T210000
SUMMARY:Repas dansant DJ
CATEGORIE:Bals et Thés Dansants
GEO:45.28814260000000;-0.86521600000000
LOCATION:1 Rue du Huit Mai
Salle des fêtes\, 33340 Saint-Germain-d'Esteuil\, France
URL:https://www.fest.fr/e/2419606
UID:2419606-1@fest.fr
END:VEVENT
END:VCALENDAR
