BEGIN:VCALENDAR
CALSCALE:GREGORIAN
VERSION:2.0
METHOD:PUBLISH 
X-WR-CALNAME:
BEGIN:VEVENT
DTSTART;TZID=Europe/Paris:20260828T163000
DTEND;TZID=Europe/Paris:20260828T173000
SUMMARY:Eté actif - stand up paddle
CATEGORIE:Stages, Ateliers et Initiations
GEO:45.41305430000000;1.16675622000000
LOCATION:Base de loisir de Rouffiac\, 24270 Angoisse\, France
URL:https://www.fest.fr/e/2419587
UID:2419587-1@fest.fr
END:VEVENT
END:VCALENDAR
