BEGIN:VCALENDAR
CALSCALE:GREGORIAN
VERSION:2.0
METHOD:PUBLISH 
X-WR-CALNAME:
BEGIN:VEVENT
DTSTART;TZID=Europe/Paris:20260527T190000
DTEND;TZID=Europe/Paris:20260527T200000
SUMMARY:Soirée Echo
CATEGORIE:Expositions, Visites et Découvertes
GEO:43.48718860000000;-0.77284190000000
LOCATION:3 rue de Billère
Centre d'art image imatge\, 64300 Orthez\, France
URL:https://www.fest.fr/e/2419538
UID:2419538-1@fest.fr
END:VEVENT
END:VCALENDAR
