BEGIN:VCALENDAR
CALSCALE:GREGORIAN
VERSION:2.0
METHOD:PUBLISH 
X-WR-CALNAME:
BEGIN:VEVENT
DTSTART;TZID=Europe/Paris:20260509T210000
DTEND;TZID=Europe/Paris:20260509T220000
SUMMARY:Concert avec le choeur d'hommes Elgarrekin
CATEGORIE:Concerts et Musique
GEO:43.38403000000000;-1.30540000000000
LOCATION:Eglise Saint Jean Baptiste\, 64240 Hasparren\, France
URL:https://www.fest.fr/e/2419497
UID:2419497-1@fest.fr
END:VEVENT
END:VCALENDAR
