BEGIN:VCALENDAR
CALSCALE:GREGORIAN
VERSION:2.0
METHOD:PUBLISH 
X-WR-CALNAME:
BEGIN:VEVENT
DTSTART;TZID=Europe/Paris:20260516T140000
DTEND;TZID=Europe/Paris:20260516T150000
SUMMARY:Découverte de la bergerie de Sarah : Atelier coussin
CATEGORIE:Stages, Ateliers et Initiations
GEO:43.88028330000000;-0.75922380000000
LOCATION:710 route du grangé\, 40400 Saint-Yaguen\, France
URL:https://www.fest.fr/e/2419478
UID:2419478-1@fest.fr
END:VEVENT
END:VCALENDAR
