BEGIN:VCALENDAR
CALSCALE:GREGORIAN
VERSION:2.0
METHOD:PUBLISH 
X-WR-CALNAME:
BEGIN:VEVENT
DTSTART;TZID=Europe/Paris:20260728T150000
DTEND;TZID=Europe/Paris:20260728T160000
SUMMARY:Grand Hôtel Gassion
CATEGORIE:Expositions, Visites et Découvertes
GEO:43.29403560000000;-0.37348280000000
LOCATION:1 Rue de Gontaut Biron\, 64000 Pau\, France
URL:https://www.fest.fr/e/2419247
UID:2419247-1@fest.fr
END:VEVENT
END:VCALENDAR
