BEGIN:VCALENDAR
CALSCALE:GREGORIAN
VERSION:2.0
METHOD:PUBLISH 
X-WR-CALNAME:
BEGIN:VEVENT
DTSTART;TZID=Europe/Paris:20260416T203000
DTEND;TZID=Europe/Paris:20260416T213000
SUMMARY:Grandes heures de Saint-Emilion - Château de Ferrand
CATEGORIE:Concerts et Musique
GEO:44.88396300000000;-0.11861770000000
LOCATION:339 Allée de Saint-Poly
Château de Ferrand\, 33330 Saint-Hippolyte\, France
URL:https://www.fest.fr/e/2419181
UID:2419181-1@fest.fr
END:VEVENT
END:VCALENDAR
