BEGIN:VCALENDAR
CALSCALE:GREGORIAN
VERSION:2.0
METHOD:PUBLISH 
X-WR-CALNAME:
BEGIN:VEVENT
DTSTART;TZID=Europe/Paris:20260426T100000
DTEND;TZID=Europe/Paris:20260426T110000
SUMMARY:Journée Nature
CATEGORIE:Expositions, Visites et Découvertes
GEO:44.49600800000000;-0.14644020000000
LOCATION:Place du Foirail
Salle des fêtes\, 33124 Auros\, France
URL:https://www.fest.fr/e/2419105
UID:2419105-1@fest.fr
END:VEVENT
END:VCALENDAR
