BEGIN:VCALENDAR
CALSCALE:GREGORIAN
VERSION:2.0
METHOD:PUBLISH 
X-WR-CALNAME:
BEGIN:VEVENT
DTSTART;TZID=Europe/Paris:20260627T180000
DTEND;TZID=Europe/Paris:20260627T190000
SUMMARY:Fête de la Saint-Pierre
CATEGORIE:Fêtes et Animations
GEO:46.35169720000000;1.53868792000000
LOCATION:Le Bourg\, 23160 Bazelat\, France
URL:https://www.fest.fr/e/2418904
UID:2418904-1@fest.fr
END:VEVENT
BEGIN:VEVENT
DTSTART;TZID=Europe/Paris:20260628T080000
DTEND;TZID=Europe/Paris:20260628T090000
SUMMARY:Fête de la Saint-Pierre
CATEGORIE:Fêtes et Animations
GEO:46.35169720000000;1.53868792000000
LOCATION:Le Bourg\, 23160 Bazelat\, France
URL:https://www.fest.fr/e/2418904
UID:2418904-2@fest.fr
END:VEVENT
END:VCALENDAR
