BEGIN:VCALENDAR
CALSCALE:GREGORIAN
VERSION:2.0
METHOD:PUBLISH 
X-WR-CALNAME:
BEGIN:VEVENT
DTSTART;TZID=Europe/Paris:20261121T080000
DTEND;TZID=Europe/Paris:20261121T090000
SUMMARY:Marché traditionnel et fermier
CATEGORIE:Marchés, Foires et Salons
GEO:43.76014180000000;-0.57338640000000
LOCATION:Halles et alentours
Place du Tribunal\, 40500 Saint-Sever\, France
URL:https://www.fest.fr/e/2418817
UID:2418817-1@fest.fr
END:VEVENT
END:VCALENDAR
