BEGIN:VCALENDAR
CALSCALE:GREGORIAN
VERSION:2.0
METHOD:PUBLISH 
X-WR-CALNAME:
BEGIN:VEVENT
DTSTART;TZID=Europe/Paris:20260417T103000
DTEND;TZID=Europe/Paris:20260417T113000
SUMMARY:Lectures et Cinéma, dès 3 ans !
CATEGORIE:Spectacles et Théâtre
GEO:43.59059010000000;-0.74339870000000
LOCATION:Avenue de la Digue
salle de l'étoile\, 40330 Amou\, France
URL:https://www.fest.fr/e/2418809
UID:2418809-1@fest.fr
END:VEVENT
END:VCALENDAR
