BEGIN:VCALENDAR
CALSCALE:GREGORIAN
VERSION:2.0
METHOD:PUBLISH 
X-WR-CALNAME:
BEGIN:VEVENT
DTSTART;TZID=Europe/Paris:20260731T190000
DTEND;TZID=Europe/Paris:20260731T200000
SUMMARY:Marché gourmand
CATEGORIE:Marchés, Foires et Salons
GEO:45.61066700000000;1.50095899000000
LOCATION:Plan d'eau de Montréal\, 87380 Saint-Germain-les-Belles\, France
URL:https://www.fest.fr/e/2418737
UID:2418737-1@fest.fr
END:VEVENT
END:VCALENDAR
