BEGIN:VCALENDAR
CALSCALE:GREGORIAN
VERSION:2.0
METHOD:PUBLISH 
X-WR-CALNAME:
BEGIN:VEVENT
DTSTART;TZID=Europe/Paris:20260427T143000
DTEND;TZID=Europe/Paris:20260427T153000
SUMMARY:Visite guidée : Bayonne en 60 minutes
CATEGORIE:Expositions, Visites et Découvertes
GEO:43.49407260000000;-1.47867030000000
LOCATION:25 Place des Basques
Office de tourisme\, 64100 Bayonne\, France
URL:https://www.fest.fr/e/2418578
UID:2418578-1@fest.fr
END:VEVENT
END:VCALENDAR
