BEGIN:VCALENDAR
CALSCALE:GREGORIAN
VERSION:2.0
METHOD:PUBLISH 
X-WR-CALNAME:
BEGIN:VEVENT
DTSTART;TZID=Europe/Paris:20260708T103000
DTEND;TZID=Europe/Paris:20260708T113000
SUMMARY:Visite guidée : Orthez, cité médiévale
CATEGORIE:Expositions, Visites et Découvertes
GEO:43.48807290000000;-0.77403570000000
LOCATION:1 rue des Jacobins
Office de tourisme\, 64300 Orthez\, France
URL:https://www.fest.fr/e/2418554
UID:2418554-1@fest.fr
END:VEVENT
END:VCALENDAR
