BEGIN:VCALENDAR
CALSCALE:GREGORIAN
VERSION:2.0
METHOD:PUBLISH 
X-WR-CALNAME:
BEGIN:VEVENT
DTSTART;TZID=Europe/Paris:20260508T140000
DTEND;TZID=Europe/Paris:20260508T150000
SUMMARY:38e éditions des Portes ouvertes
CATEGORIE:Expositions, Visites et Découvertes
LOCATION:Points-Infos  :
 	Salle Lucien Leuwen 1 rue Lucien Leuwen
 	Espace Monte-Cristo
Fondation Villa	Datris - 9 rue de Monte Cristo\, 75020 Paris 20e\, France
URL:https://www.fest.fr/e/2418514
UID:2418514-1@fest.fr
END:VEVENT
BEGIN:VEVENT
DTSTART;TZID=Europe/Paris:20260509T140000
DTEND;TZID=Europe/Paris:20260509T150000
SUMMARY:38e éditions des Portes ouvertes
CATEGORIE:Expositions, Visites et Découvertes
LOCATION:Points-Infos  :
 	Salle Lucien Leuwen 1 rue Lucien Leuwen
 	Espace Monte-Cristo
Fondation Villa	Datris - 9 rue de Monte Cristo\, 75020 Paris 20e\, France
URL:https://www.fest.fr/e/2418514
UID:2418514-2@fest.fr
END:VEVENT
BEGIN:VEVENT
DTSTART;TZID=Europe/Paris:20260510T140000
DTEND;TZID=Europe/Paris:20260510T150000
SUMMARY:38e éditions des Portes ouvertes
CATEGORIE:Expositions, Visites et Découvertes
LOCATION:Points-Infos  :
 	Salle Lucien Leuwen 1 rue Lucien Leuwen
 	Espace Monte-Cristo
Fondation Villa	Datris - 9 rue de Monte Cristo\, 75020 Paris 20e\, France
URL:https://www.fest.fr/e/2418514
UID:2418514-3@fest.fr
END:VEVENT
BEGIN:VEVENT
DTSTART;TZID=Europe/Paris:20260511T140000
DTEND;TZID=Europe/Paris:20260511T150000
SUMMARY:38e éditions des Portes ouvertes
CATEGORIE:Expositions, Visites et Découvertes
LOCATION:Points-Infos  :
 	Salle Lucien Leuwen 1 rue Lucien Leuwen
 	Espace Monte-Cristo
Fondation Villa	Datris - 9 rue de Monte Cristo\, 75020 Paris 20e\, France
URL:https://www.fest.fr/e/2418514
UID:2418514-4@fest.fr
END:VEVENT
END:VCALENDAR
