BEGIN:VCALENDAR
CALSCALE:GREGORIAN
VERSION:2.0
METHOD:PUBLISH 
X-WR-CALNAME:
BEGIN:VEVENT
DTSTART;TZID=Europe/Paris:20260505T203000
DTEND;TZID=Europe/Paris:20260505T213000
SUMMARY:Ils vont tous bien
CATEGORIE:Spectacles et Théâtre
GEO:45.83399010000000;1.25787840000000
LOCATION:10 Rue Jules Noriac
Espace Noriac\, 87000 Limoges\, France
URL:https://www.fest.fr/e/2418490
UID:2418490-1@fest.fr
END:VEVENT
END:VCALENDAR
