BEGIN:VCALENDAR
CALSCALE:GREGORIAN
VERSION:2.0
METHOD:PUBLISH 
X-WR-CALNAME:
BEGIN:VEVENT
DTSTART;TZID=Europe/Paris:20260411T193000
DTEND;TZID=Europe/Paris:20260411T203000
SUMMARY:Concert "Blue Meadow"
CATEGORIE:Concerts et Musique
GEO:44.80753780000000;-0.03096700000000
LOCATION:19 place du Général de gaulle
L'Antre-Gargouille\, 33350 Pujols\, France
URL:https://www.fest.fr/e/2418449
UID:2418449-1@fest.fr
END:VEVENT
END:VCALENDAR
