BEGIN:VCALENDAR
CALSCALE:GREGORIAN
VERSION:2.0
METHOD:PUBLISH 
X-WR-CALNAME:
BEGIN:VEVENT
DTSTART;TZID=Europe/Paris:20260612T080000
DTEND;TZID=Europe/Paris:20260612T090000
SUMMARY:Marché de quartier : Saint-Esprit
CATEGORIE:Marchés, Foires et Salons
GEO:43.49518670000000;-1.46726460000000
LOCATION:Place du Marquisat\, 64100 Bayonne\, France
URL:https://www.fest.fr/e/2418440
UID:2418440-1@fest.fr
END:VEVENT
END:VCALENDAR
