BEGIN:VCALENDAR
CALSCALE:GREGORIAN
VERSION:2.0
METHOD:PUBLISH 
X-WR-CALNAME:
BEGIN:VEVENT
DTSTART;TZID=Europe/Paris:20260709T103000
DTEND;TZID=Europe/Paris:20260709T113000
SUMMARY:Visite guidée de la citadelle
CATEGORIE:Expositions, Visites et Découvertes
GEO:43.16280440000000;-1.23496640000000
LOCATION:Parking de la citadelle\, 64220 Saint-Jean-Pied-de-Port\, France
URL:https://www.fest.fr/e/2418320
UID:2418320-1@fest.fr
END:VEVENT
END:VCALENDAR
