BEGIN:VCALENDAR
CALSCALE:GREGORIAN
VERSION:2.0
METHOD:PUBLISH 
X-WR-CALNAME:
BEGIN:VEVENT
DTSTART;TZID=Europe/Paris:20260424T080000
DTEND;TZID=Europe/Paris:20260424T090000
SUMMARY:Marché traditionnel
CATEGORIE:Marchés, Foires et Salons
GEO:43.68764980000000;-1.33382860000000
LOCATION:A côté du fronton\, 40230 Tosse\, France
URL:https://www.fest.fr/e/2418231
UID:2418231-1@fest.fr
END:VEVENT
END:VCALENDAR
