BEGIN:VCALENDAR
CALSCALE:GREGORIAN
VERSION:2.0
METHOD:PUBLISH 
X-WR-CALNAME:
BEGIN:VEVENT
DTSTART;TZID=Europe/Paris:20260725T080000
DTEND;TZID=Europe/Paris:20260725T090000
SUMMARY:Le marché prend l'air !
CATEGORIE:Marchés, Foires et Salons
GEO:43.65545000000000;-0.59319000000000
LOCATION:Place de la République\, 40700 Hagetmau\, France
URL:https://www.fest.fr/e/2418013
UID:2418013-1@fest.fr
END:VEVENT
END:VCALENDAR
