BEGIN:VCALENDAR
CALSCALE:GREGORIAN
VERSION:2.0
METHOD:PUBLISH 
X-WR-CALNAME:
BEGIN:VEVENT
DTSTART;TZID=Europe/Paris:20260926T193000
DTEND;TZID=Europe/Paris:20260926T203000
SUMMARY:Repas dansant Années 80'
CATEGORIE:Bals et Thés Dansants
GEO:45.41786830000000;0.92385279000000
LOCATION:Salle du parc municipal\, 24800 Thiviers\, France
URL:https://www.fest.fr/e/2417994
UID:2417994-1@fest.fr
END:VEVENT
END:VCALENDAR
