BEGIN:VCALENDAR
CALSCALE:GREGORIAN
VERSION:2.0
METHOD:PUBLISH 
X-WR-CALNAME:
BEGIN:VEVENT
DTSTART;TZID=Europe/Paris:20260427T100000
DTEND;TZID=Europe/Paris:20260427T110000
SUMMARY:Balade en forêt
CATEGORIE:Randonnées et balades
GEO:43.78572400000000;-1.40199400000000
LOCATION:10 Rue Pierre Loti\, 40480 Vieux-Boucau-les-Bains\, France
URL:https://www.fest.fr/e/2417948
UID:2417948-1@fest.fr
END:VEVENT
END:VCALENDAR
