BEGIN:VCALENDAR
CALSCALE:GREGORIAN
VERSION:2.0
METHOD:PUBLISH 
X-WR-CALNAME:
BEGIN:VEVENT
DTSTART;TZID=Europe/Paris:20260509T150000
DTEND;TZID=Europe/Paris:20260509T160000
SUMMARY:Visite théâtralisée du Maquis de Durestal
CATEGORIE:Expositions, Visites et Découvertes
GEO:44.97038250000000;0.84037314000000
LOCATION:Maquis de Durestal
Route du Maquis\, 24380 Val de Louyre et Caudeau\, France
URL:https://www.fest.fr/e/2417903
UID:2417903-1@fest.fr
END:VEVENT
END:VCALENDAR
