BEGIN:VCALENDAR
CALSCALE:GREGORIAN
VERSION:2.0
METHOD:PUBLISH 
X-WR-CALNAME:
BEGIN:VEVENT
DTSTART;TZID=Europe/Paris:20260419T150000
DTEND;TZID=Europe/Paris:20260419T160000
SUMMARY:Court métrage "Secrets toxiques"
CATEGORIE:Spectacles et Théâtre
GEO:45.18553290000000;0.49297732000000
LOCATION:Salle Tiers-Lieu\, 24110 Saint-Aquilin\, France
URL:https://www.fest.fr/e/2417884
UID:2417884-1@fest.fr
END:VEVENT
END:VCALENDAR
