BEGIN:VCALENDAR
CALSCALE:GREGORIAN
VERSION:2.0
METHOD:PUBLISH 
X-WR-CALNAME:
BEGIN:VEVENT
DTSTART;TZID=Europe/Paris:20260408T143000
DTEND;TZID=Europe/Paris:20260408T153000
SUMMARY:Imagine ta forme des lieux
CATEGORIE:Stages, Ateliers et Initiations
GEO:44.40355030000000;0.71068740000000
LOCATION:Musée de Gajac
Rue des Jardins\, 47300 Villeneuve-sur-Lot\, France
URL:https://www.fest.fr/e/2417855
UID:2417855-1@fest.fr
END:VEVENT
END:VCALENDAR
