BEGIN:VCALENDAR
CALSCALE:GREGORIAN
VERSION:2.0
METHOD:PUBLISH 
X-WR-CALNAME:
BEGIN:VEVENT
DTSTART;TZID=Europe/Paris:20261004T113000
DTEND;TZID=Europe/Paris:20261004T123000
SUMMARY:19ème repas Peyrouliardes
CATEGORIE:Fêtes et Animations
GEO:45.54984290000000;1.13658606000000
LOCATION:Salle polyvalente\, 87500 Le Chalard\, France
URL:https://www.fest.fr/e/2417713
UID:2417713-1@fest.fr
END:VEVENT
END:VCALENDAR
