BEGIN:VCALENDAR
CALSCALE:GREGORIAN
VERSION:2.0
METHOD:PUBLISH 
X-WR-CALNAME:
BEGIN:VEVENT
DTSTART;TZID=Europe/Paris:20260413T120000
DTEND;TZID=Europe/Paris:20260413T130000
SUMMARY:Visite Flash de la Maison Sentex
CATEGORIE:Expositions, Visites et Découvertes
GEO:43.75966000000000;-0.57436000000000
LOCATION:1 Place du Tour du Sol
Office de Tourisme Landes-Chalosse\, 40500 Saint-Sever\, France
URL:https://www.fest.fr/e/2417659
UID:2417659-1@fest.fr
END:VEVENT
END:VCALENDAR
