BEGIN:VCALENDAR
CALSCALE:GREGORIAN
VERSION:2.0
METHOD:PUBLISH 
X-WR-CALNAME:
BEGIN:VEVENT
DTSTART;TZID=Europe/Paris:20260511T080000
DTEND;TZID=Europe/Paris:20260511T090000
SUMMARY:Marché du Lonzac
CATEGORIE:Marchés, Foires et Salons
GEO:45.46556500000000;1.73228200000000
LOCATION:Place de la mairie\, 19470 Le Lonzac\, France
URL:https://www.fest.fr/e/2417496
UID:2417496-1@fest.fr
END:VEVENT
BEGIN:VEVENT
DTSTART;TZID=Europe/Paris:20260608T080000
DTEND;TZID=Europe/Paris:20260608T090000
SUMMARY:Marché du Lonzac
CATEGORIE:Marchés, Foires et Salons
GEO:45.46556500000000;1.73228200000000
LOCATION:Place de la mairie\, 19470 Le Lonzac\, France
URL:https://www.fest.fr/e/2417496
UID:2417496-2@fest.fr
END:VEVENT
BEGIN:VEVENT
DTSTART;TZID=Europe/Paris:20260713T080000
DTEND;TZID=Europe/Paris:20260713T090000
SUMMARY:Marché du Lonzac
CATEGORIE:Marchés, Foires et Salons
GEO:45.46556500000000;1.73228200000000
LOCATION:Place de la mairie\, 19470 Le Lonzac\, France
URL:https://www.fest.fr/e/2417496
UID:2417496-3@fest.fr
END:VEVENT
BEGIN:VEVENT
DTSTART;TZID=Europe/Paris:20260810T080000
DTEND;TZID=Europe/Paris:20260810T090000
SUMMARY:Marché du Lonzac
CATEGORIE:Marchés, Foires et Salons
GEO:45.46556500000000;1.73228200000000
LOCATION:Place de la mairie\, 19470 Le Lonzac\, France
URL:https://www.fest.fr/e/2417496
UID:2417496-4@fest.fr
END:VEVENT
BEGIN:VEVENT
DTSTART;TZID=Europe/Paris:20260914T080000
DTEND;TZID=Europe/Paris:20260914T090000
SUMMARY:Marché du Lonzac
CATEGORIE:Marchés, Foires et Salons
GEO:45.46556500000000;1.73228200000000
LOCATION:Place de la mairie\, 19470 Le Lonzac\, France
URL:https://www.fest.fr/e/2417496
UID:2417496-5@fest.fr
END:VEVENT
BEGIN:VEVENT
DTSTART;TZID=Europe/Paris:20261012T080000
DTEND;TZID=Europe/Paris:20261012T090000
SUMMARY:Marché du Lonzac
CATEGORIE:Marchés, Foires et Salons
GEO:45.46556500000000;1.73228200000000
LOCATION:Place de la mairie\, 19470 Le Lonzac\, France
URL:https://www.fest.fr/e/2417496
UID:2417496-6@fest.fr
END:VEVENT
BEGIN:VEVENT
DTSTART;TZID=Europe/Paris:20261109T080000
DTEND;TZID=Europe/Paris:20261109T090000
SUMMARY:Marché du Lonzac
CATEGORIE:Marchés, Foires et Salons
GEO:45.46556500000000;1.73228200000000
LOCATION:Place de la mairie\, 19470 Le Lonzac\, France
URL:https://www.fest.fr/e/2417496
UID:2417496-7@fest.fr
END:VEVENT
BEGIN:VEVENT
DTSTART;TZID=Europe/Paris:20261214T080000
DTEND;TZID=Europe/Paris:20261214T090000
SUMMARY:Marché du Lonzac
CATEGORIE:Marchés, Foires et Salons
GEO:45.46556500000000;1.73228200000000
LOCATION:Place de la mairie\, 19470 Le Lonzac\, France
URL:https://www.fest.fr/e/2417496
UID:2417496-8@fest.fr
END:VEVENT
END:VCALENDAR
