BEGIN:VCALENDAR
CALSCALE:GREGORIAN
VERSION:2.0
METHOD:PUBLISH 
X-WR-CALNAME:
BEGIN:VEVENT
DTSTART;TZID=Europe/Paris:20260709T093000
DTEND;TZID=Europe/Paris:20260709T103000
SUMMARY:Découverte du Marais d'Orx
CATEGORIE:Expositions, Visites et Découvertes
GEO:43.58947590000000;-1.40843000000000
LOCATION:1005 Route du Marais
Réserve Naturelle du Marais d'Orx\, 40530 Labenne\, France
URL:https://www.fest.fr/e/2417323
UID:2417323-1@fest.fr
END:VEVENT
END:VCALENDAR
